BEGIN:VCALENDAR
VERSION:2.0
PRODID:-//Nagel und Faden Geretsried e.V. - ECPv6.15.20//NONSGML v1.0//EN
CALSCALE:GREGORIAN
METHOD:PUBLISH
X-ORIGINAL-URL:https://nagel-faden.de
X-WR-CALDESC:Veranstaltungen für Nagel und Faden Geretsried e.V.
REFRESH-INTERVAL;VALUE=DURATION:PT1H
X-Robots-Tag:noindex
X-PUBLISHED-TTL:PT1H
BEGIN:VTIMEZONE
TZID:Europe/Berlin
BEGIN:DAYLIGHT
TZOFFSETFROM:+0100
TZOFFSETTO:+0200
TZNAME:CEST
DTSTART:20250330T010000
END:DAYLIGHT
BEGIN:STANDARD
TZOFFSETFROM:+0200
TZOFFSETTO:+0100
TZNAME:CET
DTSTART:20251026T010000
END:STANDARD
BEGIN:DAYLIGHT
TZOFFSETFROM:+0100
TZOFFSETTO:+0200
TZNAME:CEST
DTSTART:20260329T010000
END:DAYLIGHT
BEGIN:STANDARD
TZOFFSETFROM:+0200
TZOFFSETTO:+0100
TZNAME:CET
DTSTART:20261025T010000
END:STANDARD
BEGIN:DAYLIGHT
TZOFFSETFROM:+0100
TZOFFSETTO:+0200
TZNAME:CEST
DTSTART:20270328T010000
END:DAYLIGHT
BEGIN:STANDARD
TZOFFSETFROM:+0200
TZOFFSETTO:+0100
TZNAME:CET
DTSTART:20271031T010000
END:STANDARD
END:VTIMEZONE
BEGIN:VEVENT
DTSTART;TZID=Europe/Berlin:20260423T183000
DTEND;TZID=Europe/Berlin:20260423T210000
DTSTAMP:20260424T180224
CREATED:20260308T110909Z
LAST-MODIFIED:20260309T130507Z
UID:6196-1776969000-1776978000@nagel-faden.de
SUMMARY:Handarbeitscafe
DESCRIPTION:Ein Ort zum Ankommen\, Abschalten und Weiterarbeiten. Bring deine angefangenen Handarbeitsprojekte mit – egal ob Häkeln\, Stricken oder Sticken.Im Handarbeitscafé treffen sich Menschen\, die gern mit Nadel und Faden kreativ sind. Ob du an etwas Neuem tüftelst oder ein lange ruhendes Projekt endlich fertig machen möchtest: Hier findest du Zeit\, Ruhe und Austausch.In entspannter Runde wird gearbeitet\, gelacht\, gefragt und voneinander gelernt. Erfahrung ist keine Voraussetzung – Neugier reicht völlig aus. Wer Unterstützung braucht\, bekommt hilfreiche Tipps und Anregungen\, um mit Freude weiterzukommen.In vielen Fällen kann ich fachkundige Anleitung geben. (für Anfänger und Fortggeschrittene\, Jugendliche und Erwachsene)“ \nEine Anmeldung ist nicht erforderlich\, komm einfach vorbei. Die Kursgebühr in Höhe von 5 € kannst du direkt bei der Kursleiterin bezahlen.
URL:https://nagel-faden.de/kurs/handarbeitscafe-3/
LOCATION:Nagel und Faden Geretsried eV\, Bunsenweg 11\, Geretsried\, 82538\, Germany
ATTACH;FMTTYPE=image/png:https://nagel-faden.de/wp-content/uploads/2025/07/2.png
END:VEVENT
BEGIN:VEVENT
DTSTART;TZID=Europe/Berlin:20260418T100000
DTEND;TZID=Europe/Berlin:20260418T170000
DTSTAMP:20260424T180224
CREATED:20260308T110909Z
LAST-MODIFIED:20260308T114001Z
UID:6195-1776506400-1776531600@nagel-faden.de
SUMMARY:Einen Tag ein kleiner Schreiner sein
DESCRIPTION:Entdecke\, wie vielseitig Holz ist und was du alles daraus gestalten kannst! In diesem kreativen Kurs tauchen Kinder spielerisch in die Welt des Handwerks ein. Wir lernen verschiedene Werkzeuge kennen\, sammeln Wissenswertes über den Werkstoff Holz und verwirklichen eigene kleine Werkstücke. \nDer Kurs ist für Kinder ab 6 Jahren geeignet – Eltern dürfen ihre Kinder gern begleiten und aktiv mitmachen. Gemeinsam wird gehämmert\, gesägt\, gelernt und gelacht. \nBitte bringt eine Brotzeit\, ein Getränk sowie robuste Arbeitskleidung mit.Für Kinder ab 6 Jahren\, gern in Begleitung der Eltern. Bitte Brotzeit\, Getränk und Arbeitskleidung mitbringen. \n\n\n	\n        JavaScript is disabled in your browser. To access our ticket shop without JavaScript\, please click here.
URL:https://nagel-faden.de/kurs/einen-tag-ein-kleiner-schreiner-sein-2/
LOCATION:Nagel und Faden Geretsried eV\, Bunsenweg 11\, Geretsried\, 82538\, Germany
ATTACH;FMTTYPE=image/png:https://nagel-faden.de/wp-content/uploads/2025/07/kleiner-Schreiner.png
END:VEVENT
BEGIN:VEVENT
DTSTART;TZID=Europe/Berlin:20260417T190000
DTEND;TZID=Europe/Berlin:20260417T210000
DTSTAMP:20260424T180224
CREATED:20260308T110909Z
LAST-MODIFIED:20260309T090628Z
UID:6193-1776452400-1776459600@nagel-faden.de
SUMMARY:Repair-Cafe
DESCRIPTION:Habt ihr Gegenstände\, die defekt sind oder nicht mehr richtig funktionieren? Beim Repair Cafe bekommt ihr die Gelegenheit\, diese gemeinsam zu reparieren\, statt sie wegzuwerfen. Mit handwerklichem Geschick\, Erfahrung und gegenseitiger Unterstützung versuchen wir\, euren Alltagsdingen neues Leben einzuhauchen.\nOb kleine Reparaturen oder etwas aufwendigere Projekte – wir schauen gemeinsam\, was möglich ist. Bei Bedarf kann auch unsere Werkstatt genutzt werden\, um passende Lösungen zu finden oder Teile neu anzufertigen.\nDer Reparaturtreff lebt vom Austausch\, vom gemeinsamen Tüfteln und vom Gedanken der Nachhaltigkeit. Kostenfrei\, Spenden willkommen.\nGrößere Geräte wie Rasenmäher\, Fahrräder oder ähnliche Gegenstände bitte nur nach vorheriger Anfrage mitbringen.\nInfo bei Frank Schiefer – 0174 19 999 59 – frank.schiefer@nagel-faden.de oder Nepomuk Planitzer – 0176 63071890 – nepomuk.planitzer@nagel-faden.de
URL:https://nagel-faden.de/kurs/repair-cafe/
LOCATION:Nagel und Faden Geretsried eV\, Bunsenweg 11\, Geretsried\, 82538\, Germany
ATTACH;FMTTYPE=image/png:https://nagel-faden.de/wp-content/uploads/2026/03/HP-Repair-Klimafruehling.png
END:VEVENT
BEGIN:VEVENT
DTSTART;TZID=Europe/Berlin:20260417T180000
DTEND;TZID=Europe/Berlin:20260417T200000
DTSTAMP:20260424T180224
CREATED:20260308T110909Z
LAST-MODIFIED:20260309T084246Z
UID:6194-1776448800-1776456000@nagel-faden.de
SUMMARY:Malwerkstatt
DESCRIPTION:In der Malwerkstatt steht der kreative Ausdruck im Mittelpunkt. Eingeladen sind Erwachsene\, die Lust haben zu malen\, Neues auszuprobieren und sich in der Gemeinschaft inspirieren zu lassen – ganz gleich\, ob mit Erfahrung oder zum ersten Mal vor der Leinwand.In ruhiger\, offener Atmosphäre entstehen Bilder ohne Vorgaben und ohne Druck. Acrylfarben und Malutensilien stehen bereit\, ebenso eine kleine Auswahl an Leinwänden (je nach Größe für 3\,50 € bis 5\,50 €). Eigenes Material kann gern mitgebracht werden.Gemeinsam zu malen öffnet Räume\, schenkt neue Impulse und lässt Kreativität fließen. \n\n\n	\n        JavaScript is disabled in your browser. To access our ticket shop without JavaScript\, please click here.
URL:https://nagel-faden.de/kurs/malwerkstatt-2/
LOCATION:Nagel und Faden Geretsried eV\, Bunsenweg 11\, Geretsried\, 82538\, Germany
ATTACH;FMTTYPE=image/png:https://nagel-faden.de/wp-content/uploads/2025/07/3.png
END:VEVENT
BEGIN:VEVENT
DTSTART;TZID=Europe/Berlin:20260416T183000
DTEND;TZID=Europe/Berlin:20260416T210000
DTSTAMP:20260424T180224
CREATED:20260308T110901Z
LAST-MODIFIED:20260308T113147Z
UID:6192-1776364200-1776373200@nagel-faden.de
SUMMARY:Nähcafe
DESCRIPTION:Hier dreht sich alles ums kreative Arbeiten mit Stoff und Maschine. Ob du neue Ideen sammeln\, an einem Herzensprojekt weiterarbeiten oder erste Schritte an der Nähmaschine oder Overlock machen möchtest – hier findest du Raum\, Zeit und Unterstützung.In entspannter Atmosphäre wird gemeinsam genäht\, ausprobiert und voneinander gelernt. Fragen sind ausdrücklich erwünscht\, ebenso wie Neugier und Lust am Gestalten. Dir stehen eine Reihe unterschiedlicher Maschinen zur Verfügung\, du kannst aber auch gern deine eigene Nähmaschine mitbringen.Materialien bitte nach Bedarf selbst mitbringen. \n\n\n	\n        JavaScript is disabled in your browser. To access our ticket shop without JavaScript\, please click here.
URL:https://nagel-faden.de/kurs/naehcafe-2/
LOCATION:Nagel und Faden Geretsried eV\, Bunsenweg 11\, Geretsried\, 82538\, Germany
ATTACH;FMTTYPE=image/png:https://nagel-faden.de/wp-content/uploads/2025/07/1.png
END:VEVENT
BEGIN:VEVENT
DTSTART;TZID=Europe/Berlin:20260415T173000
DTEND;TZID=Europe/Berlin:20260415T200000
DTSTAMP:20260424T180224
CREATED:20260308T110901Z
LAST-MODIFIED:20260309T083905Z
UID:6191-1776274200-1776283200@nagel-faden.de
SUMMARY:Glasperlen drehen
DESCRIPTION:Lerne unter Anleitung\, wie eine Glasperle in der Flamme entsteht und drehe deine ersten eigenen Glasperlen.10€ für Material sind direkt an die Kursleitung zu entrichten \n\n\n	\n        JavaScript is disabled in your browser. To access our ticket shop without JavaScript\, please click here.
URL:https://nagel-faden.de/kurs/glasperlen-drehen-2/
LOCATION:Nagel und Faden Geretsried eV\, Bunsenweg 11\, Geretsried\, 82538\, Germany
ATTACH;FMTTYPE=image/png:https://nagel-faden.de/wp-content/uploads/2025/09/Glasperlen.png
END:VEVENT
BEGIN:VEVENT
DTSTART;TZID=Europe/Berlin:20260415T140000
DTEND;TZID=Europe/Berlin:20260415T160000
DTSTAMP:20260424T180224
CREATED:20260308T110900Z
LAST-MODIFIED:20260309T083225Z
UID:6190-1776261600-1776268800@nagel-faden.de
SUMMARY:Kräuterwanderung
DESCRIPTION:Resi Hardt führt Euch durch Wald und Wiesen und zeigt die heimischen Kräuter für die Frühjahrskur \n  \nMin. TN: 4Max. TN: 25 \n\n\n	\n        JavaScript is disabled in your browser. To access our ticket shop without JavaScript\, please click here.
URL:https://nagel-faden.de/kurs/kraeuterwanderung/
LOCATION:Nagel und Faden Geretsried eV\, Bunsenweg 11\, Geretsried\, 82538\, Germany
ATTACH;FMTTYPE=image/png:https://nagel-faden.de/wp-content/uploads/2026/03/15.04.-Kraeuter.png
END:VEVENT
BEGIN:VEVENT
DTSTART;TZID=Europe/Berlin:20260412T103000
DTEND;TZID=Europe/Berlin:20260412T123000
DTSTAMP:20260424T180224
CREATED:20260308T105920Z
LAST-MODIFIED:20260308T110808Z
UID:6152-1775989800-1775997000@nagel-faden.de
SUMMARY:Makramee Grundkurs\n - Armbänder für Anfänger
DESCRIPTION:In diesem Kurs entdecket ihr die Grundlagen des Makramees und übt die Basis-Knoten. Gemeinsam gestalten wir einfache Projekte wie Armbänder und Schlüsselanhänger – ideal\, um erste Kreationen zu schaffen und eine Basis für weitere Makramee-Techniken zu lernen\, perfekt für Einsteiger\, die kreative Accessoires selbst gestalten möchten. \n\n\n\nAlle benötigten Materialien werden von der Dozentin zur Verfügung gestellt. Gerne können aber auch eigene Materialien mitgebracht werden.5 € für Material werden vor Ort eingesammelt. \n\n\n\n	\n        JavaScript is disabled in your browser. To access our ticket shop without JavaScript\, please click here.
URL:https://nagel-faden.de/kurs/makramee-grundkurs-armbaender-fuer-anfaenger/
ATTACH;FMTTYPE=image/png:https://nagel-faden.de/wp-content/uploads/2026/03/Makramee-Anfaenger.png
END:VEVENT
BEGIN:VEVENT
DTSTART;TZID=Europe/Berlin:20260328T100000
DTEND;TZID=Europe/Berlin:20260328T130000
DTSTAMP:20260424T180224
CREATED:20260205T112257Z
LAST-MODIFIED:20260411T162739Z
UID:6044-1774692000-1774702800@nagel-faden.de
SUMMARY:Töpferkurs Drehen an der \nScheibe - 2 Tage
DESCRIPTION:Alle Termine auf einen Blick: 28.03.\, 11.04. – jeweils 10:00-13:00 Uhr \nAm ersten Tag setzten wir uns an die Töpferscheibe und lernen das Drehen von Stücken an der Töpferscheibe. Nach einer kurzen Einführung in die Keramik erlernen wir das Zentrieren von Tonballen auf der Scheibe\, das Öffnen\, das Hochziehen der Wände und das Formen. Keine Vorkenntnisse nötig\, je nach Wunsch wird bei den einzelnen Schritten von der Kursleiterin unterstützt. Anschließend werden die Stücke durch die Kursleiterin getrocknet\, abgedreht und gebrannt. Am zweiten Kurstag werden die Stücke mit Botz Glasuren glasiert und anschließend noch einmal gebrannt. \nMaterialkosten in Höhe von 15 € sind direkt im Kurs zu bezahlen \nMitzubringen sind:– Robuste bequeme Kleidung die auch schmutzig werden darf– evtl. Schürze– Freude und Interesse am Töpfern 🙂 \nKursleitung: \nIris Jarsch hat seit ihrer frühen Jugend mit verschiedenen kunsthandwerklichen Disziplinen geliebäugelt. Nach einem Berufspraktikum in der Töpferwerkstatt von Gundel Seiler in Königsdorf\, vielen Jahren als Hilfskraft im Schmuckatelier von Christa Kratzer in Penzberg und privatem Malunterricht bei Enrico Richter in Bichl entschied sie sich doch für ein Studium der Naturwissenschaften. Nach fast 20 Jahren Forschung ist sie in der zweiten Karriere zum Kunsthandwerk zurückgekehrt\, betreibt ein Gewerbe als Töpferin und stellt in ihrer kleinen Kellerwerkstatt Gebrauchskeramik aus hochgebranntem Steinzeug her. Neben den Verkauf der eigenen Stücke gibt sie in verschiedenen Einrichtungen Kurse für Kinder und Erwachsene. \n\n\n	\n        JavaScript is disabled in your browser. To access our ticket shop without JavaScript\, please click here.
URL:https://nagel-faden.de/kurs/toepferkurs-drehen-an-der-scheibe-2-tage/
ATTACH;FMTTYPE=image/png:https://nagel-faden.de/wp-content/uploads/2026/02/0326-drehenker.png
END:VEVENT
END:VCALENDAR